BEGIN:VCALENDAR
VERSION:2.0
PRODID:-//ChildSafe® - ECPv6.15.20//NONSGML v1.0//EN
CALSCALE:GREGORIAN
METHOD:PUBLISH
X-ORIGINAL-URL:https://www.childsafe-sa.org
X-WR-CALDESC:Events for ChildSafe®
REFRESH-INTERVAL;VALUE=DURATION:PT1H
X-Robots-Tag:noindex
X-PUBLISHED-TTL:PT1H
BEGIN:VTIMEZONE
TZID:America/Chicago
BEGIN:DAYLIGHT
TZOFFSETFROM:-0600
TZOFFSETTO:-0500
TZNAME:CDT
DTSTART:20220313T080000
END:DAYLIGHT
BEGIN:STANDARD
TZOFFSETFROM:-0500
TZOFFSETTO:-0600
TZNAME:CST
DTSTART:20221106T070000
END:STANDARD
BEGIN:DAYLIGHT
TZOFFSETFROM:-0600
TZOFFSETTO:-0500
TZNAME:CDT
DTSTART:20230312T080000
END:DAYLIGHT
BEGIN:STANDARD
TZOFFSETFROM:-0500
TZOFFSETTO:-0600
TZNAME:CST
DTSTART:20231105T070000
END:STANDARD
BEGIN:DAYLIGHT
TZOFFSETFROM:-0600
TZOFFSETTO:-0500
TZNAME:CDT
DTSTART:20240310T080000
END:DAYLIGHT
BEGIN:STANDARD
TZOFFSETFROM:-0500
TZOFFSETTO:-0600
TZNAME:CST
DTSTART:20241103T070000
END:STANDARD
END:VTIMEZONE
BEGIN:VEVENT
DTSTART;TZID=America/Chicago:20231010T120000
DTEND;TZID=America/Chicago:20231010T130000
DTSTAMP:20260422T082944
CREATED:20230905T224226Z
LAST-MODIFIED:20230905T224226Z
UID:5085-1696939200-1696942800@www.childsafe-sa.org
SUMMARY:“Child Traumatic Stress and PTSD”
DESCRIPTION:A training which provides information on the different types of trauma and the effects of child traumatic stress on development. Participants will be able to identify behavior responses to trauma. In addition\, this training will provide helpful tips when assisting a child in crisis. \nTuesday\, October 10 from 12pm-1pm CST. Register now to gain access. \nRegister In Advance Here »
URL:https://www.childsafe-sa.org/event/child-traumatic-stress-and-ptsd-4/
CATEGORIES:Training Calendar
ATTACH;FMTTYPE=image/jpeg:https://www.childsafe-sa.org/wp-content/uploads/2023/01/CLASS-PTSD-and-Child-Traumatic-Stress.jpg
END:VEVENT
END:VCALENDAR